Workbook

Sheet SUMMARY
A2: Project ID:
A4: Address:
A6: No. of Floors: | B6: 2
A8: Building GSF | B8: 459
A10: DIVISION NO. | B10: DESCRIPTION | C10: TOTAL DIV. COST | D10: TOTAL DIV. COST (PER SF)
A11: 1000 | B11: Overhead and Preliminaries | C11: ='MATERIAL TAKE-OFF'!L13 -> 51463.08 | D11: =C11/$B$8 -> 112.12
A12: 2000 | B12: Existing Conditions/ Sitework | C12: ='MATERIAL TAKE-OFF'!L37 -> 2683.2836 | D12: =C12/$B$8 -> 5.8459337
A13: 3000 | B13: Concrete | C13: ='MATERIAL TAKE-OFF'!L48 -> 3843.5954 | D13: =C13/$B$8 -> 8.3738463
A14: 4000 | B14: Masonry | C14: ='MATERIAL TAKE-OFF'!L110 -> 158074.86 | D14: =C14/$B$8 -> 344.38967
A15: 5000 | B15: Metal | C15: ='MATERIAL TAKE-OFF'!L129 -> 234366.19 | D15: =C15/$B$8 -> 510.60172
A16: 6000 | B16: Wood, Plastic And Composites | C16: ='MATERIAL TAKE-OFF'!L148 -> 44010.315 | D16: =C16/$B$8 -> 95.883038
A17: 7000 | B17: Thermal And Moisture Protection | C17: ='MATERIAL TAKE-OFF'!L172 -> 33733.344 | D17: =C17/$B$8 -> 73.493124
A18: 8000 | B18: Openings | C18: ='MATERIAL TAKE-OFF'!L233 -> 307136.85 | D18: =C18/$B$8 -> 669.14346
A19: 9000 | B19: Finishes | C19: ='MATERIAL TAKE-OFF'!L319 -> 163707.85 | D19: =C19/$B$8 -> 356.66198
A20: 10000 | B20: Specialities | C20: ='MATERIAL TAKE-OFF'!L332 -> 15966.65 | D20: =C20/$B$8 -> 34.78573
A21: 11000 | B21: Equipmant | C21: ='MATERIAL TAKE-OFF'!L343 -> 14370.65 | D21: =C21/$B$8 -> 31.308606
A22: 12000 | B22: Furnishes | C22: ='MATERIAL TAKE-OFF'!L365 -> 63130.971 | D22: =C22/$B$8 -> 137.54024
A23: 22000 | B23: Plumbing | C23: ='MATERIAL TAKE-OFF'!L399 -> 54999.081 | D23: =C23/$B$8 -> 119.82371
A24: 23000 | B24: HVAC/ Mechanical | C24: ='MATERIAL TAKE-OFF'!L404 -> 20000 | D24: =C24/$B$8 -> 43.572985
A25: 26000 | B25: Electrical | C25: ='MATERIAL TAKE-OFF'!L439 -> 45716.863 | D25: =C25/$B$8 -> 99.601009
A26: 31000 | B26: Excavation | C26: ='MATERIAL TAKE-OFF'!L445 -> 0 | D26: =C26/$B$8 -> 0
A27: 32000 | B27: Exterior Improvements | C27: ='MATERIAL TAKE-OFF'!L498 -> 111640.11 | D27: =C27/$B$8 -> 243.22465
A28: 33000 | B28: Utilities | C28: ='MATERIAL TAKE-OFF'!L503 -> 0 | D28: =C28/$B$8 -> 0
A29: SUBTOTAL CONSTRUCTION COST | C29: =SUM(C11:C28) -> 1324843.7 | D29: =SUM(D11:D28) -> 2886.3697
A31: PROFIT | B31: 0.15 | C31: =$C$29*B31 -> 198726.55 | D31: =$D$29*B31 -> 432.95546
A32: TOTAL PROJECT COST | C32: =C31+C29 -> 1523570.2 | D32: =$D$29*B32 -> 0
A33: GST | B33: 0.1 | C33: =C32*B33 -> 152357.02 | D33: =$D$29*B33 -> 288.63697
A34: TOTAL PROJECT COST INCL. GST | C34: =SUM(C32:C33) -> 1675927.3 | D34: =SUM(D29:D33) -> 3607.9621

Sheet MATERIAL TAKE-OFF
A3: Project: | B3: =SUMMARY!B2 -> 0
A5: Address: | B5: =SUMMARY!B4 -> 0
A7: Scope: | B7: GC
A9: Date: | B9: =TODAY() -> 46072
A10: SR # | B10: REF. SHEET # | C10: DESCRIPTION | D10: QUANTITY | E10: UNIT | F10: LABOR RATE | G10: TOTAL LABOUR COST | H10: MATERIAL RATE | I10: TOTAL MATETRIAL COST | J10: EQUIPMENT RATE | K10: TOTAL EQUIPMENT COSTS | L10: SUB COST | M10: NOTE / REMARKS
B11: 01. OVERHEAD AND PREMLIMINARIES
A12: 1 | C12: Overhead and Preliminaries | D12: 459 | E12: M2 | F12: 21.67 | G12: =D12*F12 -> 9946.53 | H12: 2.91 | I12: =D12*H12 -> 1335.69 | J12: 87.54 | K12: =D12*J12 -> 40180.86 | L12: =IF(D12="","",(G12+I12+K12)) -> 51463.08
A13: =IF(E13=0,"",1+MAX(A12:A12)) | K13: SUBTOTAL | L13: =SUM(L11:L12) -> 51463.08
A14: =IF(E14=0,"",1+MAX(A13:A13))
A15: =IF(E15=0,"",1+MAX(A13:A14)) | B15: 02. EXISTING CONDITIONS/ SITE WORK
A16: =IF(E16=0,"",1+MAX(A13:A15)) | C16: Archi Demolition
A17: =IF(E17=0,"",1+MAX(A11:A16)) -> 2 | B17: ED101 ED103 | C17: Window To Be Removed | D17: 10 | E17: EA | F17: 3.25 | G17: =D17*F17 -> 32.5 | H17: 0 | I17: =D17*H17 -> 0 | J17: 0 | K17: =D17*J17 -> 0 | L17: =IF(D17="","",(G17+I17+K17)) -> 32.5
A18: =IF(E18=0,"",1+MAX(A12:A17)) -> 3 | C18: Door To Be Removed | D18: 15 | E18: EA | F18: 4.75 | G18: =D18*F18 -> 71.25 | H18: 0 | I18: =D18*H18 -> 0 | J18: 0 | K18: =D18*J18 -> 0 | L18: =IF(D18="","",(G18+I18+K18)) -> 71.25
A19: =IF(E19=0,"",1+MAX(A13:A18)) -> 4 | C19: (824mm x 3580mm) Sunshade To Be Removed | D19: 1 | E19: EA | F19: 4.35 | G19: =D19*F19 -> 4.35 | H19: 0 | I19: =D19*H19 -> 0 | J19: 0 | K19: =D19*J19 -> 0 | L19: =IF(D19="","",(G19+I19+K19)) -> 4.35
A20: =IF(E20=0,"",1+MAX(A14:A19)) -> 5 | C20: (790mm x 1750mm) Sunshade To Be Removed | D20: 1 | E20: EA | F20: 4.35 | G20: =D20*F20 -> 4.35 | H20: 0 | I20: =D20*H20 -> 0 | J20: 0 | K20: =D20*J20 -> 0 | L20: =IF(D20="","",(G20+I20+K20)) -> 4.35
A21: =IF(E21=0,"",1+MAX(A15:A20)) -> 6 | C21: (480mm x 2230mm) Sunshade To Be Removed | D21: 1 | E21: EA | F21: 4.35 | G21: =D21*F21 -> 4.35 | H21: 0 | I21: =D21*H21 -> 0 | J21: 0 | K21: =D21*J21 -> 0 | L21: =IF(D21="","",(G21+I21+K21)) -> 4.35
A22: =IF(E22=0,"",1+MAX(A16:A21)) -> 7 | C22: Remove Sunshade | D22: 1 | E22: EA | F22: 4.35 | G22: =D22*F22 -> 4.35 | H22: 0 | I22: =D22*H22 -> 0 | J22: 0 | K22: =D22*J22 -> 0 | L22: =IF(D22="","",(G22+I22+K22)) -> 4.35
A23: =IF(E23=0,"",1+MAX(A17:A22)) -> 8 | C23: Wall To Be Removed (2.34m H) | D23: =2.34*2.47 -> 5.7798 | E23: M2 | F23: 5.23 | G23: =D23*F23 -> 30.228354 | H23: 0 | I23: =D23*H23 -> 0 | J23: 0 | K23: =D23*J23 -> 0 | L23: =IF(D23="","",(G23+I23+K23)) -> 30.228354
A24: =IF(E24=0,"",1+MAX(A18:A23)) -> 9 | C24: Wall To Be Removed (1m H) | D24: =1*3.45 -> 3.45 | E24: M2 | F24: 5.23 | G24: =D24*F24 -> 18.0435 | H24: 0 | I24: =D24*H24 -> 0 | J24: 0 | K24: =D24*J24 -> 0 | L24: =IF(D24="","",(G24+I24+K24)) -> 18.0435
A25: =IF(E25=0,"",1+MAX(A19:A24)) -> 10 | C25: Wall To Be Removed (2.6m H) | D25: =2.6*2.08 -> 5.408 | E25: M2 | F25: 5.23 | G25: =D25*F25 -> 28.28384 | H25: 0 | I25: =D25*H25 -> 0 | J25: 0 | K25: =D25*J25 -> 0 | L25: =IF(D25="","",(G25+I25+K25)) -> 28.28384
A26: =IF(E26=0,"",1+MAX(A20:A25)) -> 11 | C26: Wall To Be Removed (2.8m H) | D26: =2.8*4.04 -> 11.312 | E26: M2 | F26: 5.23 | G26: =D26*F26 -> 59.16176 | H26: 0 | I26: =D26*H26 -> 0 | J26: 0 | K26: =D26*J26 -> 0 | L26: =IF(D26="","",(G26+I26+K26)) -> 59.16176
A27: =IF(E27=0,"",1+MAX(A21:A26)) -> 12 | C27: Wall To Be Removed (2.13m H) | D27: =2.13*0.76 -> 1.6188 | E27: M2 | F27: 5.23 | G27: =D27*F27 -> 8.466324 | H27: 0 | I27: =D27*H27 -> 0 | J27: 0 | K27: =D27*J27 -> 0 | L27: =IF(D27="","",(G27+I27+K27)) -> 8.466324
A28: =IF(E28=0,"",1+MAX(A22:A27)) -> 13 | C28: Wall To Be Removed (3m H) | D28: =3*32.93 -> 98.79 | E28: M2 | F28: 5.23 | G28: =D28*F28 -> 516.6717 | H28: 0 | I28: =D28*H28 -> 0 | J28: 0 | K28: =D28*J28 -> 0 | L28: =IF(D28="","",(G28+I28+K28)) -> 516.6717
A29: =IF(E29=0,"",1+MAX(A23:A28)) -> 14 | C29: Wall Base To Be Removed | D29: 39.52 | E29: M | F29: 5.23 | G29: =D29*F29 -> 206.6896 | H29: 0 | I29: =D29*H29 -> 0 | J29: 0 | K29: =D29*J29 -> 0 | L29: =IF(D29="","",(G29+I29+K29)) -> 206.6896
A30: =IF(E30=0,"",1+MAX(A24:A29)) -> 15 | C30: Stairs To Be Removed Along W/ Framing | D30: 4.36 | E30: M2 | F30: 2.98 | G30: =D30*F30 -> 12.9928 | H30: 0 | I30: =D30*H30 -> 0 | J30: 0 | K30: =D30*J30 -> 0 | L30: =IF(D30="","",(G30+I30+K30)) -> 12.9928
A31: =IF(E31=0,"",1+MAX(A25:A30)) -> 16 | C31: Remove Kitchen Appliances Along W/ Cabinets | D31: 0.74 | E31: M2 | F31: 6.13 | G31: =D31*F31 -> 4.5362 | H31: 0 | I31: =D31*H31 -> 0 | J31: 0 | K31: =D31*J31 -> 0 | L31: =IF(D31="","",(G31+I31+K31)) -> 4.5362
A32: =IF(E32=0,"",1+MAX(A26:A31)) -> 17 | C32: Remove Flooring Along W/ Ceiling | D32: 107.72 | E32: M2 | F32: 7.22 | G32: =D32*F32 -> 777.7384 | H32: 0 | I32: =D32*H32 -> 0 | J32: 0 | K32: =D32*J32 -> 0 | L32: =IF(D32="","",(G32+I32+K32)) -> 777.7384
A33: =IF(E33=0,"",1+MAX(A27:A32)) -> 18 | C33: Remove Roofing Entirely Including Finishes, Framing e.t.c | D33: 35.63 | E33: M2 | F33: 9.32 | G33: =D33*F33 -> 332.0716 | H33: 0 | I33: =D33*H33 -> 0 | J33: 0 | K33: =D33*J33 -> 0 | L33: =IF(D33="","",(G33+I33+K33)) -> 332.0716
A34: =IF(E34=0,"",1+MAX(A28:A33)) | C34: Site Demolition
A35: =IF(E35=0,"",1+MAX(A29:A34)) -> 19 | C35: Remove Conc.Kerb | D35: 20.47 | E35: M | F35: 7.85 | G35: =D35*F35 -> 160.6895 | H35: 0 | I35: =D35*H35 -> 0 | J35: 0 | K35: =D35*J35 -> 0 | L35: =IF(D35="","",(G35+I35+K35)) -> 160.6895
A36: =IF(E36=0,"",1+MAX(A30:A35)) -> 20 | C36: Remove Concrete Driveway | D36: 49.28 | E36: M2 | F36: 8.25 | G36: =D36*F36 -> 406.56 | H36: 0 | I36: =D36*H36 -> 0 | J36: 0 | K36: =D36*J36 -> 0 | L36: =IF(D36="","",(G36+I36+K36)) -> 406.56
A37: =IF(E37=0,"",1+MAX(A34:A36)) | K37: SUBTOTAL | L37: =SUM(L15:L36) -> 2683.2836
A38: =IF(E38=0,"",1+MAX(A35:A37))
A39: =IF(E39=0,"",1+MAX(A36:A38)) | B39: 03. CONCRETE
A40: =IF(E40=0,"",1+MAX(A37:A39)) | C40: Strip Footing
A41: =IF(E41=0,"",1+MAX(A35:A40)) -> 21 | B41: PD102 PD103 | C41: (200mm W x 250mm H) Reinforced Strip Footing | D41: =0.2*0.25*9.54 -> 0.477 | E41: M3 | F41: 26.45 | G41: =D41*F41 -> 12.61665 | H41: 148.32 | I41: =D41*H41 -> 70.74864 | J41: 13.25 | K41: =D41*J41 -> 6.32025 | L41: =IF(D41="","",(G41+I41+K41)) -> 89.68554
A42: =IF(E42=0,"",1+MAX(A36:A41)) -> 22 | C42: Formwork | D42: 4.85 | E42: M2 | F42: 3.23 | G42: =D42*F42 -> 15.6655 | H42: 5.98 | I42: =D42*H42 -> 29.003 | J42: 1.12 | K42: =D42*J42 -> 5.432 | L42: =IF(D42="","",(G42+I42+K42)) -> 50.1005
A43: =IF(E43=0,"",1+MAX(A37:A42)) | C43: Isolated Footing
A44: =IF(E44=0,"",1+MAX(A38:A43)) -> 23 | C44: (200mm SQ x 250mm H) Conc. Footing | D44: =19*0.2*0.2*0.25 -> 0.19 | E44: M3 | F44: 26.45 | G44: =D44*F44 -> 5.0255 | H44: 148.32 | I44: =D44*H44 -> 28.1808 | J44: 13.25 | K44: =D44*J44 -> 2.5175 | L44: =IF(D44="","",(G44+I44+K44)) -> 35.7238
A45: =IF(E45=0,"",1+MAX(A39:A44)) | C45: Slab
...
